Workbook
Name LAUFZEIT: #REF!

Sheet UVP_MICROSOFT
A1: Benutzer/Monat, jährliche Abrechnung, 12 Monate Laufzeit, netto | I1: VERGLEICH | Einmalkauf, netto
A2: PRODUKT | B2: PREIS | C2: PREIS ab dem 01.07.2026 | E2: PREIS bis 07.2026 (nach einem Jahr) | F2: PREIS bis 07.2026 (nach zwei Jahren) | G2: PREIS bis 07.2026 (nach drei Jahren) | J2: PREIS | L2: PREIS (nach einem Jahr) | M2: PREIS (nach zwei Jahren) | N2: PREIS (nach drei Jahren)
A3: Microsoft 365 Business Basic | B3: 5.6 | C3: plus 25% = | D3: =B3*1.25 -> 7 | E3: =B3*12 -> 67.2 | F3: =B3*24 -> 134.4 | G3: =B3*36 -> 201.6 | I3: ZU DIESEM ABO GIBT ES KEIN KAUF PRODUKT
A4: Microsoft 365 Business Standard | B4: 11.7 | C4: plus 12% = | D4: =B4*1.12 -> 13.104 | E4: =B4*12 -> 140.4 | F4: =B4*24 -> 280.8 | G4: =B4*36 -> 421.2 | I4: Microsoft Office Home & Business Word, Excel, PowerPoint, Outlook, OneNote Desktop-App | J4: 242,19 | L4: 242,19 (+Teams) 288,87 (+Teams,OneDrive) 345,27 | M4: 242,19 (+Teams) 335,55 (+Teams,OneDrive) 448,35 | N4: 242,19 (+Teams) 288,87 (+Teams,OneDrive) 458,07
A5: Microsoft 365 Business Premium | B5: 20.6 | C5: plus 11% = | D5: =B5*1.11 -> 22.866 | E5: =B5*12 -> 247.2 | F5: =B5*24 -> 494.4 | G5: =B5*36 -> 741.6 | I5: Microsoft Office Professional Plus (CSP Kauflizenz) Access, Word, Excel, PowerPoint, Outlook, OneNote Desktop-App + TerminalServer | J5: 722,58 | L5: 722,58 (+Teams) 769,26 (+Teams, OneDrive) 825,66 | M5: 722,58 (+Teams) 815,94 (+Teams, OneDrive) 928,74 | N5: 722,58 (+Teams) 862,62 (+Teams,OneDrive) 1.031,82
I6: bei den KAUF Produkten, je nach Anforderung, kommen folgende Lizenzen dazu: * Microsoft Teams Essentials Benutzer/Monat - jährliche Abrechnung / Laufzeit * OneDrive for Business Benutzer/Monat - jährliche Abrechnung / Laufzeit | J6: 3,89 4,70 | L6: 46,68 56,40 | M6: 93,36 112,8 | N6: 140,04 169,2
A7: EWR = Europäischer Wirtschaftsraum = ohne Teams | I7: ... für weitere Funktionen, zusätzlich die lokalen Server Editionen:
A8: Microsoft 365 Business Basic EWR | B8: 4.1 | C8: plus 25% = | D8: =B8*1.25 -> 5.125 | E8: =B8*12 -> 49.2 | F8: =B8*24 -> 98.4 | G8: =B8*36 -> 147.6 | I8: Exchange Server Standard - User CAL - Device CAL SharePoint Standard - User CAL - Device CAL | J8: 835,00 € 103,00 € 80,00 € 8.005,00 € 144,00 € 98,00 € | L8: 835,00 € 103,00 € 80,00 € 8.005,00 € 144,00 € 98,00 € | M8: 835,00 € 103,00 € 80,00 € 8.005,00 € 144,00 € 98,00 € | N8: 835,00 € 103,00 € 80,00 € 8.005,00 € 144,00 € 98,00 €
A9: Microsoft 365 Business Standard EWR | B9: 8.7 | C9: plus 12% = | D9: =B9*1.12 -> 9.744 | E9: =B9*12 -> 104.4 | F9: =B9*24 -> 208.8 | G9: =B9*36 -> 313.2
A10: Microsoft 365 Business Premium EWR | B10: 17.6 | C10: plus 11% = | D10: =B10*1.11 -> 19.536 | E10: =B10*12 -> 211.2 | F10: =B10*24 -> 422.4 | G10: =B10*36 -> 633.6
A11: Microsoft 365 Apps for Business | B11: 9.8 | E11: =B11*12 -> 117.6 | F11: =B11*24 -> 235.2 | G11: =B11*36 -> 352.8
A13: Benutzer/Monat, monatliche Abrechnung, 12 Monate Laufzeit, netto
A14: PRODUKT | B14: PREIS | C14: PREIS ab dem 01.07.2026 | E14: PREIS bis 07.2026 (nach einem Jahr) | F14: PREIS bis 07.2026 (nach zwei Jahren) | G14: PREIS bis 07.2026 (nach drei Jahren) | J14: PREIS | L14: PREIS (nach einem Jahr) | M14: PREIS (nach zwei Jahren) | N14: PREIS (nach drei Jahren)
A15: Microsoft 365 Business Basic | B15: =B3*1.05 -> 5.88 | C15: plus 25% = | D15: =B15*1.25 -> 7.35 | E15: =B15*12 -> 70.56 | F15: =B15*24 -> 141.12 | G15: =B15*36 -> 211.68 | I15: ZU DIESEM ABO GIBT ES KEIN KAUF PRODUKT
A16: Microsoft 365 Business Standard | B16: =B4*1.05 -> 12.285 | C16: plus 12% = | D16: =B16*1.12 -> 13.7592 | E16: =B16*12 -> 147.42 | F16: =B16*24 -> 294.84 | G16: =B16*36 -> 442.26 | I16: Microsoft Office Home & Business Word, Excel, PowerPoint, Outlook, OneNote Desktop-App | J16: 242,19 | L16: 242,19 (+Teams) 288,87 (+Teams,OneDrive) 345,27 | M16: 242,19 (+Teams) 335,55 (+Teams,OneDrive) 448,35 | N16: 242,19 (+Teams) 288,87 (+Teams,OneDrive) 458,07
A17: Microsoft 365 Business Premium | B17: =B5*1.05 -> 21.63 | C17: plus 11% = | D17: =B17*1.11 -> 24.0093 | E17: =B17*12 -> 259.56 | F17: =B17*24 -> 519.12 | G17: =B17*36 -> 778.68 | I17: Microsoft Office Professional Plus (CSP Kauflizenz) Access, Word, Excel, PowerPoint, Outlook, OneNote Desktop-App + TerminalServer | J17: 722,58 | L17: 722,58 (+Teams) 769,26 (+Teams, OneDrive) 825,66 | M17: 722,58 (+Teams) 815,94 (+Teams, OneDrive) 928,74 | N17: 722,58 (+Teams) 862,62 (+Teams,OneDrive) 1.031,82
I18: bei den KAUF Produkten, je nach Anforderung, kommen folgende Lizenzen dazu: * Microsoft Teams Essentials Benutzer/Monat - jährliche Abrechnung / Laufzeit * OneDrive for Business Benutzer/Monat - jährliche Abrechnung / Laufzeit | J18: 3,89 4,70 | L18: 46,68 56,40 | M18: 93,36 112,8 | N18: 140,04 169,2
A19: EWR = Europäischer Wirtschaftsraum = ohne Teams | I19: ... für weitere Funktionen, zusätzlich die lokalen Server Editionen:
A20: Microsoft 365 Business Basic EWR | B20: =B8*1.05 -> 4.305 | C20: plus 25% = | D20: =B20*1.25 -> 5.38125 | E20: =B20*12 -> 51.66 | F20: =B20*24 -> 103.32 | G20: =B20*36 -> 154.98 | I20: Exchange Server Standard - User CAL - Device CAL SharePoint Standard - User CAL - Device CAL | J20: 835,00 € 103,00 € 80,00 € 8.005,00 € 144,00 € 98,00 € | L20: 835,00 € 103,00 € 80,00 € 8.005,00 € 144,00 € 98,00 € | M20: 835,00 € 103,00 € 80,00 € 8.005,00 € 144,00 € 98,00 € | N20: 835,00 € 103,00 € 80,00 € 8.005,00 € 144,00 € 98,00 €
A21: Microsoft 365 Business Standard EWR | B21: =B9*1.05 -> 9.135 | C21: plus 12% = | D21: =B21*1.12 -> 10.2312 | E21: =B21*12 -> 109.62 | F21: =B21*24 -> 219.24 | G21: =B21*36 -> 328.86
A22: Microsoft 365 Business Premium EWR | B22: =B10*1.05 -> 18.48 | C22: plus 11% = | D22: =B22*1.11 -> 20.5128 | E22: =B22*12 -> 221.76 | F22: =B22*24 -> 443.52 | G22: =B22*36 -> 665.28
A23: Microsoft 365 Apps for Business | B23: =B11*1.05 -> 10.29 | E23: =B23*12 -> 123.48 | F23: =B23*24 -> 246.96 | G23: =B23*36 -> 370.44
A25: Benutzer/Monat, monatliche Abrechnung, 1 Monat Laufzeit, netto
A26: PRODUKT | B26: PREIS | C26: PREIS ab dem 01.07.2026 | E26: PREIS bis 07.2026 (nach einem Jahr) | F26: PREIS bis 07.2026 (nach zwei Jahren) | G26: PREIS bis 07.2026 (nach drei Jahren) | J26: PREIS | L26: PREIS (nach einem Jahr) | M26: PREIS (nach zwei Jahren) | N26: PREIS (nach drei Jahren)
A27: Microsoft 365 Business Basic | B27: =B3*1.2 -> 6.72 | C27: plus 25% = | D27: =B27*1.25 -> 8.4 | E27: =B27*12 -> 80.64 | F27: =B27*24 -> 161.28 | G27: =B27*36 -> 241.92 | I27: ZU DIESEM ABO GIBT ES KEIN KAUF PRODUKT
A28: Microsoft 365 Business Standard | B28: =B4*1.2 -> 14.04 | C28: plus 12% = | D28: =B28*1.12 -> 15.7248 | E28: =B28*12 -> 168.48 | F28: =B28*24 -> 336.96 | G28: =B28*36 -> 505.44 | I28: Microsoft Office Home & Business Word, Excel, PowerPoint, Outlook, OneNote Desktop-App | J28: 242,19 | L28: 242,19 (+Teams) 295,47 (+Teams,OneDrive) 363,15 | M28: 242,19 (+Teams) 348,75 (+Teams,OneDrive) 484,11 | N28: 242,19 (+Teams) 402,03 (+Teams,OneDrive) 605,07
A29: Microsoft 365 Business Premium | B29: =B5*1.2 -> 24.72 | C29: plus 11% = | D29: =B29*1.11 -> 27.4392 | E29: =B29*12 -> 296.64 | F29: =B29*24 -> 593.28 | G29: =B29*36 -> 889.92 | I29: Microsoft Office Professional Plus (CSP Kauflizenz) Access, Word, Excel, PowerPoint, Outlook, OneNote Desktop-App + TerminalServer | J29: 722,58 | L29: 722,58 (+Teams) 775,86 (+Teams, OneDrive) 843,54 | M29: 722,58 (+Teams) 829,14 (+Teams, OneDrive) 964,50 | N29: 722,58 (+Teams) 882,42 (+Teams,OneDrive) 1.085,46
I30: bei den KAUF Produkten, je nach Anforderung, kommen folgende Lizenzen dazu: * Microsoft Teams Essentials Benutzer/Monat - jährliche Abrechnung / Laufzeit * OneDrive for Business Benutzer/Monat - jährliche Abrechnung / Laufzeit | J30: 4,44 5,64 | L30: 53,28 67,68 | M30: 106,56 135,36 | N30: 159,84 203,04
A31: EWR = Europäischer Wirtschaftsraum = ohne Teams | I31: ... für weitere Funktionen, zusätzlich die lokalen Server Editionen:
A32: Microsoft 365 Business Basic EWR | B32: =B8*1.2 -> 4.92 | C32: plus 25% = | D32: =B32*1.25 -> 6.15 | E32: =B32*12 -> 59.04 | F32: =B32*24 -> 118.08 | G32: =B32*36 -> 177.12 | I32: Exchange Server Standard - User CAL - Device CAL SharePoint Standard - User CAL - Device CAL | J32: 835,00 € 103,00 € 80,00 € 8.005,00 € 144,00 € 98,00 € | L32: 835,00 € 103,00 € 80,00 € 8.005,00 € 144,00 € 98,00 € | M32: 835,00 € 103,00 € 80,00 € 8.005,00 € 144,00 € 98,00 € | N32: 835,00 € 103,00 € 80,00 € 8.005,00 € 144,00 € 98,00 €
A33: Microsoft 365 Business Standard EWR | B33: =B9*1.2 -> 10.44 | C33: plus 12% = | D33: =B33*1.12 -> 11.6928 | E33: =B33*12 -> 125.28 | F33: =B33*24 -> 250.56 | G33: =B33*36 -> 375.84
A34: Microsoft 365 Business Premium EWR | B34: =B10*1.2 -> 21.12 | C34: plus 11% = | D34: =B34*1.11 -> 23.4432 | E34: =B34*12 -> 253.44 | F34: =B34*24 -> 506.88 | G34: =B34*36 -> 760.32
A35: Microsoft 365 Apps for Business | B35: =B11*1.2 -> 11.76 | E35: =B35*12 -> 141.12 | F35: =B35*24 -> 282.24 | G35: =B35*36 -> 423.36

Sheet LIZENZ = USER
B1: mit Teams | C1: BENUTZER | E1: PREIS UVP | G1: ABRECHNUNG / LAUFZEIT
B2: Microsoft 365 Business Basic | C2: 1 | E2: =UVP_MICROSOFT!B3*'LIZENZ = USER'!C2 *G2 -> 6.72 | G2: 1.2
B3: Microsoft 365 Business Standard | E3: =UVP_MICROSOFT!B4*'LIZENZ = USER'!C3 *G3 -> 0 | G3: 1.2
B4: Microsoft 365 Business Premium | E4: =UVP_MICROSOFT!B5*'LIZENZ = USER'!C4 *G4 -> 0 | G4: 1.2
B6: ohne Teams
B7: Microsoft 365 Business Basic EWR | E7: =UVP_MICROSOFT!B8*'LIZENZ = USER'!C7 *G7 -> 0 | G7: 1.2
B8: Microsoft 365 Business Standard EWR | E8: =UVP_MICROSOFT!B9*'LIZENZ = USER'!C8 *G8 -> 0 | G8: 1.2
B9: Microsoft 365 Business Premium EWR | E9: =UVP_MICROSOFT!B10*'LIZENZ = USER'!C9 *G9 -> 0 | G9: 1.2
B11: Microsoft 365 Apps for Business | E11: =UVP_MICROSOFT!B11*'LIZENZ = USER'!C11 *G11 -> 0 | G11: 1.2
B15: ABRECHNUNGS INFORMATIONEN | C15: monatlich / monatlich 20% zusätzlich | G15: 1.2
C16: monatlich / jährlich 5% zusätzlich | G16: 1.05
C17: jährlich / jährlich | G17: 1
